View In:
ArcGIS JavaScript
ArcGIS Online Map Viewer
ArcGIS Earth
ArcMap
View Footprint In:
ArcGIS Online Map Viewer
Service Description: VAFolier/al020b
Name: VAFolier/al020b
Description:
Single Fused Map Cache: false
Extent:
XMin: 316160.1629999999
YMin: 6524808.547304311
XMax: 317120.38222751644
YMax: 6526158.69425163
Spatial Reference: 25832
(25832)
Initial Extent:
XMin: 316160.1629999999
YMin: 6524808.547304311
XMax: 317120.38222751644
YMax: 6526158.69425163
Spatial Reference: 25832
(25832)
Full Extent:
XMin: 316160.1629999999
YMin: 6524808.547304311
XMax: 317120.38222751644
YMax: 6526158.69425163
Spatial Reference: 25832
(25832)
Pixel Size X: 0.08463809850300202
Pixel Size Y: 0.08463809850298516
Band Count: 3
Pixel Type: S16
RasterFunction Infos: {"rasterFunctionInfos": [{
"name": "None",
"description": "",
"help": ""
}]}
Mensuration Capabilities: Basic
Has Histograms: true
Has Colormap: false
Has Multi Dimensions : false
Rendering Rule:
Min Scale: 0
Max Scale: 0
Copyright Text:
Service Data Type: esriImageServiceDataTypeGeneric
Min Values: 0, 0, 0
Max Values: 255, 255, 255
Mean Values: 186.70636556036666, 159.46675089240355, 127.734747461289
Standard Deviation Values: 25.27158674042101, 33.01420032634782, 42.04845808625642
Object ID Field:
Fields:
None
Default Mosaic Method: Center
Allowed Mosaic Methods:
SortField:
SortValue: null
Mosaic Operator: First
Default Compression Quality: 75
Default Resampling Method: Bilinear
Max Record Count: null
Max Image Height: 4100
Max Image Width: 15000
Max Download Image Count: null
Max Mosaic Image Count: null
Allow Raster Function: true
Allow Copy: true
Allow Analysis: true
Allow Compute TiePoints: false
Supports Statistics: false
Supports Advanced Queries: false
Use StandardizedQueries: true
Raster Type Infos:
Name: Raster Dataset
Description: Supports all ArcGIS Raster Datasets
Help:
Has Raster Attribute Table: false
Edit Fields Info: null
Ownership Based AccessControl For Rasters: null
Child Resources:
Info
Histograms
Statistics
Key Properties
Legend
Raster Function Infos
Supported Operations:
Export Image
Identify
Measure
Compute Histograms
Compute Statistics Histograms
Get Samples
Compute Class Statistics
Query Boundary
Compute Pixel Location
Compute Angles
Validate
Project