{
 "currentVersion": 10.91,
 "serviceDescription": "VAFolier/al020b",
 "name": "VAFolier/al020b",
 "description": "",
 "extent": {
  "xmin": 316160.1629999999,
  "ymin": 6524808.547304311,
  "xmax": 317120.38222751644,
  "ymax": 6526158.69425163,
  "spatialReference": {
   "wkid": 25832,
   "latestWkid": 25832
  }
 },
 "initialExtent": {
  "xmin": 316160.1629999999,
  "ymin": 6524808.547304311,
  "xmax": 317120.38222751644,
  "ymax": 6526158.69425163,
  "spatialReference": {
   "wkid": 25832,
   "latestWkid": 25832
  }
 },
 "fullExtent": {
  "xmin": 316160.1629999999,
  "ymin": 6524808.547304311,
  "xmax": 317120.38222751644,
  "ymax": 6526158.69425163,
  "spatialReference": {
   "wkid": 25832,
   "latestWkid": 25832
  }
 },
 "hasMultidimensions": false,
 "pixelSizeX": 0.08463809850300202,
 "pixelSizeY": 0.08463809850298516,
 "datasetFormat": "GRID Stack 7.x",
 "uncompressedSize": 1085852640,
 "blockWidth": 256,
 "blockHeight": 16,
 "compressionType": "None",
 "bandNames": [
  "al020bc1",
  "al020bc2",
  "al020bc3"
 ],
 "allowCopy": true,
 "allowAnalysis": true,
 "bandCount": 3,
 "noDataValue": -32768,
 "noDataValues": [
  -32768,
  -32768,
  -32768
 ],
 "pixelType": "S16",
 "minPixelSize": 0,
 "maxPixelSize": 0,
 "copyrightText": "",
 "serviceDataType": "esriImageServiceDataTypeGeneric",
 "serviceSourceType": "esriImageServiceSourceTypeDataset",
 "minValues": [
  0,
  0,
  0
 ],
 "maxValues": [
  255,
  255,
  255
 ],
 "meanValues": [
  186.70636556036666,
  159.46675089240355,
  127.734747461289
 ],
 "stdvValues": [
  25.27158674042101,
  33.01420032634782,
  42.04845808625642
 ],
 "objectIdField": "",
 "fields": [],
 "capabilities": "Image,Metadata,Mensuration",
 "defaultMosaicMethod": "Center",
 "allowedMosaicMethods": "",
 "sortField": "",
 "sortValue": null,
 "sortAscending": true,
 "mosaicOperator": "First",
 "defaultCompressionQuality": 75,
 "defaultResamplingMethod": "Bilinear",
 "maxImageHeight": 4100,
 "maxImageWidth": 15000,
 "allowRasterFunction": true,
 "rasterFunctionInfos": [
  {
   "name": "None",
   "description": "",
   "help": ""
  }
 ],
 "rasterTypeInfos": [
  {
   "name": "Raster Dataset",
   "description": "Supports all ArcGIS Raster Datasets",
   "help": ""
  }
 ],
 "mensurationCapabilities": "Basic",
 "hasHistograms": true,
 "hasColormap": false,
 "hasRasterAttributeTable": false,
 "minScale": 0,
 "maxScale": 0,
 "exportTilesAllowed": false,
 "supportsStatistics": false,
 "supportsAdvancedQueries": false,
 "editFieldsInfo": null,
 "ownershipBasedAccessControlForRasters": null,
 "allowComputeTiePoints": false,
 "useStandardizedQueries": true,
 "advancedQueryCapabilities": {
  "useStandardizedQueries": true,
  "supportsStatistics": false,
  "supportsOrderBy": false,
  "supportsDistinct": false,
  "supportsPagination": false
 },
 "spatialReference": {
  "wkid": 25832,
  "latestWkid": 25832
 }
}
