View In:
ArcGIS JavaScript
ArcGIS Online Map Viewer
ArcGIS Earth
ArcMap
View Footprint In:
ArcGIS Online Map Viewer
Service Description: VAFolier/an022
Name: VAFolier/an022
Description:
Single Fused Map Cache: false
Extent:
XMin: 326868.50380216236
YMin: 6531487.244073157
XMax: 329406.9854871988
YMax: 6532898.114757116
Spatial Reference: 25832
(25832)
Initial Extent:
XMin: 326868.50380216236
YMin: 6531487.244073157
XMax: 329406.9854871988
YMax: 6532898.114757116
Spatial Reference: 25832
(25832)
Full Extent:
XMin: 326868.50380216236
YMin: 6531487.244073157
XMax: 329406.9854871988
YMax: 6532898.114757116
Spatial Reference: 25832
(25832)
Pixel Size X: 0.08480828828800094
Pixel Size Y: 0.08480828828797511
Band Count: 3
Pixel Type: S16
RasterFunction Infos: {"rasterFunctionInfos": [{
"name": "None",
"description": "",
"help": ""
}]}
Mensuration Capabilities: Basic
Has Histograms: true
Has Colormap: false
Has Multi Dimensions : false
Rendering Rule:
Min Scale: 0
Max Scale: 0
Copyright Text:
Service Data Type: esriImageServiceDataTypeGeneric
Min Values: 0, 0, 0
Max Values: 255, 255, 255
Mean Values: 182.58269371709346, 156.8171540548135, 127.89081560697393
Standard Deviation Values: 26.540599459215343, 34.25426129159166, 42.13031187868644
Object ID Field:
Fields:
None
Default Mosaic Method: Center
Allowed Mosaic Methods:
SortField:
SortValue: null
Mosaic Operator: First
Default Compression Quality: 75
Default Resampling Method: Bilinear
Max Record Count: null
Max Image Height: 4100
Max Image Width: 15000
Max Download Image Count: null
Max Mosaic Image Count: null
Allow Raster Function: true
Allow Copy: true
Allow Analysis: true
Allow Compute TiePoints: false
Supports Statistics: false
Supports Advanced Queries: false
Use StandardizedQueries: true
Raster Type Infos:
Name: Raster Dataset
Description: Supports all ArcGIS Raster Datasets
Help:
Has Raster Attribute Table: false
Edit Fields Info: null
Ownership Based AccessControl For Rasters: null
Child Resources:
Info
Histograms
Statistics
Key Properties
Legend
Raster Function Infos
Supported Operations:
Export Image
Identify
Measure
Compute Histograms
Compute Statistics Histograms
Get Samples
Compute Class Statistics
Query Boundary
Compute Pixel Location
Compute Angles
Validate
Project