View In:
ArcGIS JavaScript
ArcGIS Online Map Viewer
ArcGIS Earth
ArcMap
View Footprint In:
ArcGIS Online Map Viewer
Service Description: VAFolier/al_am022
Name: VAFolier/al_am022
Description:
Single Fused Map Cache: false
Extent:
XMin: 316590.10485745367
YMin: 6533746.218219841
XMax: 320743.5451715011
YMax: 6536916.06271798
Spatial Reference: 25832
(25832)
Initial Extent:
XMin: 316590.10485745367
YMin: 6533746.218219841
XMax: 320743.5451715011
YMax: 6536916.06271798
Spatial Reference: 25832
(25832)
Full Extent:
XMin: 316590.10485745367
YMin: 6533746.218219841
XMax: 320743.5451715011
YMax: 6536916.06271798
Spatial Reference: 25832
(25832)
Pixel Size X: 0.0847416055749994
Pixel Size Y: 0.08474160557501136
Band Count: 3
Pixel Type: S16
RasterFunction Infos: {"rasterFunctionInfos": [{
"name": "None",
"description": "",
"help": ""
}]}
Mensuration Capabilities: Basic
Has Histograms: true
Has Colormap: false
Has Multi Dimensions : false
Rendering Rule:
Min Scale: 0
Max Scale: 0
Copyright Text:
Service Data Type: esriImageServiceDataTypeGeneric
Min Values: 0, 0, 0
Max Values: 255, 255, 255
Mean Values: 186.30372455587033, 161.57417764088348, 136.5661544918195
Standard Deviation Values: 39.30843186356327, 51.748422113504205, 63.166286017767845
Object ID Field:
Fields:
None
Default Mosaic Method: Center
Allowed Mosaic Methods:
SortField:
SortValue: null
Mosaic Operator: First
Default Compression Quality: 75
Default Resampling Method: Bilinear
Max Record Count: null
Max Image Height: 4100
Max Image Width: 15000
Max Download Image Count: null
Max Mosaic Image Count: null
Allow Raster Function: true
Allow Copy: true
Allow Analysis: true
Allow Compute TiePoints: false
Supports Statistics: false
Supports Advanced Queries: false
Use StandardizedQueries: true
Raster Type Infos:
Name: Raster Dataset
Description: Supports all ArcGIS Raster Datasets
Help:
Has Raster Attribute Table: false
Edit Fields Info: null
Ownership Based AccessControl For Rasters: null
Child Resources:
Info
Histograms
Statistics
Key Properties
Legend
Raster Function Infos
Supported Operations:
Export Image
Identify
Measure
Compute Histograms
Compute Statistics Histograms
Get Samples
Compute Class Statistics
Query Boundary
Compute Pixel Location
Compute Angles
Validate
Project