View In:
ArcGIS JavaScript
ArcGIS Online Map Viewer
ArcGIS Earth
ArcMap
View Footprint In:
ArcGIS Online Map Viewer
Service Description: VAFolier/ak021
Name: VAFolier/ak021
Description:
Single Fused Map Cache: false
Extent:
XMin: 308429.4009896377
YMin: 6529281.168652615
XMax: 311000.75116603647
YMax: 6533064.050999999
Spatial Reference: 25832
(25832)
Initial Extent:
XMin: 308429.4009896377
YMin: 6529281.168652615
XMax: 311000.75116603647
YMax: 6533064.050999999
Spatial Reference: 25832
(25832)
Full Extent:
XMin: 308429.4009896377
YMin: 6529281.168652615
XMax: 311000.75116603647
YMax: 6533064.050999999
Spatial Reference: 25832
(25832)
Pixel Size X: 0.0838720782959997
Pixel Size Y: 0.08387207829599955
Band Count: 3
Pixel Type: S16
RasterFunction Infos: {"rasterFunctionInfos": [{
"name": "None",
"description": "",
"help": ""
}]}
Mensuration Capabilities: Basic
Has Histograms: true
Has Colormap: false
Has Multi Dimensions : false
Rendering Rule:
Min Scale: 0
Max Scale: 0
Copyright Text:
Service Data Type: esriImageServiceDataTypeGeneric
Min Values: 0, 0, 0
Max Values: 255, 255, 255
Mean Values: 193.82436105583378, 167.4722277122767, 137.62613340112028
Standard Deviation Values: 30.73933297206236, 41.88025857753268, 54.701578951431806
Object ID Field:
Fields:
None
Default Mosaic Method: Center
Allowed Mosaic Methods:
SortField:
SortValue: null
Mosaic Operator: First
Default Compression Quality: 75
Default Resampling Method: Bilinear
Max Record Count: null
Max Image Height: 4100
Max Image Width: 15000
Max Download Image Count: null
Max Mosaic Image Count: null
Allow Raster Function: true
Allow Copy: true
Allow Analysis: true
Allow Compute TiePoints: false
Supports Statistics: false
Supports Advanced Queries: false
Use StandardizedQueries: true
Raster Type Infos:
Name: Raster Dataset
Description: Supports all ArcGIS Raster Datasets
Help:
Has Raster Attribute Table: false
Edit Fields Info: null
Ownership Based AccessControl For Rasters: null
Child Resources:
Info
Histograms
Statistics
Key Properties
Legend
Raster Function Infos
Supported Operations:
Export Image
Identify
Measure
Compute Histograms
Compute Statistics Histograms
Get Samples
Compute Class Statistics
Query Boundary
Compute Pixel Location
Compute Angles
Validate
Project