View In:
ArcGIS JavaScript
ArcGIS Online Map Viewer
ArcGIS Earth
ArcMap
View Footprint In:
ArcGIS Online Map Viewer
Service Description: VAFolier/AK_019_1_7_georef_tif
Name: VAFolier/AK_019_1_7_georef_tif
Description:
Single Fused Map Cache: false
Extent:
XMin: 308962.8929999995
YMin: 6523934.612999998
XMax: 309849.40599999955
YMax: 6524677.265999998
Spatial Reference: 25832
(25832)
Initial Extent:
XMin: 308962.8929999995
YMin: 6523934.612999998
XMax: 309849.40599999955
YMax: 6524677.265999998
Spatial Reference: 25832
(25832)
Full Extent:
XMin: 308962.8929999995
YMin: 6523934.612999998
XMax: 309849.40599999955
YMax: 6524677.265999998
Spatial Reference: 25832
(25832)
Pixel Size X: 0.08461515701059802
Pixel Size Y: 0.08461353537654472
Band Count: 3
Pixel Type: U8
RasterFunction Infos: {"rasterFunctionInfos": [{
"name": "None",
"description": "",
"help": ""
}]}
Mensuration Capabilities: Basic
Has Histograms: true
Has Colormap: false
Has Multi Dimensions : false
Rendering Rule:
Min Scale: 0
Max Scale: 0
Copyright Text:
Service Data Type: esriImageServiceDataTypeRGB
Min Values: 0, 0, 0
Max Values: 255, 255, 255
Mean Values: 180.12411141123, 149.45001834509, 120.39350061431
Standard Deviation Values: 28.823933363402, 37.221831597761, 45.345449225217
Object ID Field:
Fields:
None
Default Mosaic Method: Center
Allowed Mosaic Methods:
SortField:
SortValue: null
Mosaic Operator: First
Default Compression Quality: 75
Default Resampling Method: Bilinear
Max Record Count: null
Max Image Height: 4100
Max Image Width: 15000
Max Download Image Count: null
Max Mosaic Image Count: null
Allow Raster Function: true
Allow Copy: true
Allow Analysis: true
Allow Compute TiePoints: false
Supports Statistics: false
Supports Advanced Queries: false
Use StandardizedQueries: true
Raster Type Infos:
Name: Raster Dataset
Description: Supports all ArcGIS Raster Datasets
Help:
Has Raster Attribute Table: false
Edit Fields Info: null
Ownership Based AccessControl For Rasters: null
Child Resources:
Info
Histograms
Statistics
Key Properties
Legend
Raster Function Infos
Supported Operations:
Export Image
Identify
Measure
Compute Histograms
Compute Statistics Histograms
Get Samples
Compute Class Statistics
Query Boundary
Compute Pixel Location
Compute Angles
Validate
Project