{
 "currentVersion": 10.91,
 "serviceDescription": "VAFolier/ak_al019",
 "name": "VAFolier/ak_al019",
 "description": "",
 "extent": {
  "xmin": 308063.9752735108,
  "ymin": 6519437.508043087,
  "xmax": 316904.7382027512,
  "ymax": 6524677.326096124,
  "spatialReference": {
   "wkid": 25832,
   "latestWkid": 25832
  }
 },
 "initialExtent": {
  "xmin": 308063.9752735108,
  "ymin": 6519437.508043087,
  "xmax": 316904.7382027512,
  "ymax": 6524677.326096124,
  "spatialReference": {
   "wkid": 25832,
   "latestWkid": 25832
  }
 },
 "fullExtent": {
  "xmin": 308063.9752735108,
  "ymin": 6519437.508043087,
  "xmax": 316904.7382027512,
  "ymax": 6524677.326096124,
  "spatialReference": {
   "wkid": 25832,
   "latestWkid": 25832
  }
 },
 "hasMultidimensions": false,
 "pixelSizeX": 0.08443012605400022,
 "pixelSizeY": 0.08443012605399411,
 "datasetFormat": "GRID Stack 7.x",
 "uncompressedSize": 38990816226,
 "blockWidth": 256,
 "blockHeight": 16,
 "compressionType": "None",
 "bandNames": [
  "ak_al019c1",
  "ak_al019c2",
  "ak_al019c3"
 ],
 "allowCopy": true,
 "allowAnalysis": true,
 "bandCount": 3,
 "noDataValue": -32768,
 "noDataValues": [
  -32768,
  -32768,
  -32768
 ],
 "pixelType": "S16",
 "minPixelSize": 0,
 "maxPixelSize": 0,
 "copyrightText": "",
 "serviceDataType": "esriImageServiceDataTypeGeneric",
 "serviceSourceType": "esriImageServiceSourceTypeDataset",
 "minValues": [
  0,
  0,
  0
 ],
 "maxValues": [
  255,
  255,
  255
 ],
 "meanValues": [
  185.12573775784932,
  159.33185193505648,
  129.97401164267018
 ],
 "stdvValues": [
  26.528942663710126,
  34.577299992161095,
  42.90013543269271
 ],
 "objectIdField": "",
 "fields": [],
 "capabilities": "Image,Metadata,Mensuration",
 "defaultMosaicMethod": "Center",
 "allowedMosaicMethods": "",
 "sortField": "",
 "sortValue": null,
 "sortAscending": true,
 "mosaicOperator": "First",
 "defaultCompressionQuality": 75,
 "defaultResamplingMethod": "Bilinear",
 "maxImageHeight": 4100,
 "maxImageWidth": 15000,
 "allowRasterFunction": true,
 "rasterFunctionInfos": [
  {
   "name": "None",
   "description": "",
   "help": ""
  }
 ],
 "rasterTypeInfos": [
  {
   "name": "Raster Dataset",
   "description": "Supports all ArcGIS Raster Datasets",
   "help": ""
  }
 ],
 "mensurationCapabilities": "Basic",
 "hasHistograms": true,
 "hasColormap": false,
 "hasRasterAttributeTable": false,
 "minScale": 0,
 "maxScale": 0,
 "exportTilesAllowed": false,
 "supportsStatistics": false,
 "supportsAdvancedQueries": false,
 "editFieldsInfo": null,
 "ownershipBasedAccessControlForRasters": null,
 "allowComputeTiePoints": false,
 "useStandardizedQueries": true,
 "advancedQueryCapabilities": {
  "useStandardizedQueries": true,
  "supportsStatistics": false,
  "supportsOrderBy": false,
  "supportsDistinct": false,
  "supportsPagination": false
 },
 "spatialReference": {
  "wkid": 25832,
  "latestWkid": 25832
 }
}
